BEGIN:VCALENDAR
VERSION:2.0
PRODID:-//Blitz - ECPv6.10.1.1//NONSGML v1.0//EN
CALSCALE:GREGORIAN
METHOD:PUBLISH
X-ORIGINAL-URL:https://blitz.com.my
X-WR-CALDESC:Events for Blitz
REFRESH-INTERVAL;VALUE=DURATION:PT1H
X-Robots-Tag:noindex
X-PUBLISHED-TTL:PT1H
BEGIN:VTIMEZONE
TZID:UTC
BEGIN:STANDARD
TZOFFSETFROM:+0000
TZOFFSETTO:+0000
TZNAME:UTC
DTSTART:20240101T000000
END:STANDARD
END:VTIMEZONE
BEGIN:VEVENT
DTSTART;TZID=UTC:20241001T080000
DTEND;TZID=UTC:20241002T170000
DTSTAMP:20260424T101726
CREATED:20240116T012446Z
LAST-MODIFIED:20240116T012532Z
UID:1000-1727769600-1727888400@blitz.com.my
SUMMARY:Primavera P6 (PAKA)
DESCRIPTION:
URL:https://blitz.com.my/event/primavera-p6-4/
LOCATION:BLITZ TRAINING & CONSULTANCY SDN BHD (BRANCH)\, Lot PT 17675 Taman Industri Paka\, Terengganu\, Kuala Dungun\, 23100\, Malaysia
CATEGORIES:Primavera P6
END:VEVENT
BEGIN:VEVENT
DTSTART;TZID=UTC:20240703T080000
DTEND;TZID=UTC:20240704T170000
DTSTAMP:20260424T101726
CREATED:20240116T012435Z
LAST-MODIFIED:20240116T012601Z
UID:999-1719993600-1720112400@blitz.com.my
SUMMARY:Primavera P6 (PAKA)
DESCRIPTION:
URL:https://blitz.com.my/event/primavera-p6-3/
LOCATION:BLITZ TRAINING & CONSULTANCY SDN BHD (BRANCH)\, Lot PT 17675 Taman Industri Paka\, Terengganu\, Kuala Dungun\, 23100\, Malaysia
CATEGORIES:Primavera P6
END:VEVENT
BEGIN:VEVENT
DTSTART;TZID=UTC:20240402T080000
DTEND;TZID=UTC:20240403T170000
DTSTAMP:20260424T101726
CREATED:20240116T012423Z
LAST-MODIFIED:20240116T012610Z
UID:998-1712044800-1712163600@blitz.com.my
SUMMARY:Primavera P6 (PAKA)
DESCRIPTION:
URL:https://blitz.com.my/event/primavera-p6-2/
LOCATION:BLITZ TRAINING & CONSULTANCY SDN BHD (BRANCH)\, Lot PT 17675 Taman Industri Paka\, Terengganu\, Kuala Dungun\, 23100\, Malaysia
CATEGORIES:Primavera P6
END:VEVENT
BEGIN:VEVENT
DTSTART;TZID=UTC:20240130T080000
DTEND;TZID=UTC:20240131T170000
DTSTAMP:20260424T101726
CREATED:20240116T012306Z
LAST-MODIFIED:20240116T012618Z
UID:893-1706601600-1706720400@blitz.com.my
SUMMARY:Primavera P6 (PAKA)
DESCRIPTION:
URL:https://blitz.com.my/event/primavera-p6/
LOCATION:BLITZ TRAINING & CONSULTANCY SDN BHD (BRANCH)\, Lot PT 17675 Taman Industri Paka\, Terengganu\, Kuala Dungun\, 23100\, Malaysia
CATEGORIES:Primavera P6
END:VEVENT
END:VCALENDAR