BEGIN:VCALENDAR
VERSION:2.0
PRODID:-//Blitz - ECPv6.10.1.1//NONSGML v1.0//EN
CALSCALE:GREGORIAN
METHOD:PUBLISH
X-WR-CALNAME:Blitz
X-ORIGINAL-URL:https://blitz.com.my
X-WR-CALDESC:Events for Blitz
REFRESH-INTERVAL;VALUE=DURATION:PT1H
X-Robots-Tag:noindex
X-PUBLISHED-TTL:PT1H
BEGIN:VTIMEZONE
TZID:UTC
BEGIN:STANDARD
TZOFFSETFROM:+0000
TZOFFSETTO:+0000
TZNAME:UTC
DTSTART:20250101T000000
END:STANDARD
END:VTIMEZONE
BEGIN:VEVENT
DTSTART;TZID=UTC:20251027T080000
DTEND;TZID=UTC:20251031T170000
DTSTAMP:20260425T163842
CREATED:20250928T160010Z
LAST-MODIFIED:20250928T160010Z
UID:1144-1761552000-1761930000@blitz.com.my
SUMMARY:Advance Inspection Combo level 1-3
DESCRIPTION:Advance Inspection Combo Level 1-3 \nTo provide knowledge of relevant scaffold regulations\,\nincluding OSHA 1994 (Amendments 2022)\, CDM\n2024\, TG20\, CIS 22\, and MS 1462. \nTo educate participants on best practices\, hazard\nidentification\, compliance\, and the impact of noncompliance\nin scaffold use and installation. \nDuration \n5 Days of Training ( Theory & Practical)
URL:https://blitz.com.my/event/advance-inspection-combo-level-1-3/
LOCATION:Melaka
CATEGORIES:Scaffolding Competency Course
END:VEVENT
BEGIN:VEVENT
DTSTART;VALUE=DATE:20251124
DTEND;VALUE=DATE:20251127
DTSTAMP:20260425T163842
CREATED:20250928T161316Z
LAST-MODIFIED:20250928T161316Z
UID:1148-1763942400-1764201599@blitz.com.my
SUMMARY:High Pressure Water Jet (MELAKA)
DESCRIPTION:HIGH PRESSURE WATER JET (HPWJ) COURSE \nAt the end of the course\, the participant will be able to: \nIdentify the roles and responsibilities of the parties involved in high pressure water jet (HPWJ).\nIdentify personal protective equipment (PPE) and required security features.\nIdentify associated hazards with water jet activity high pressure (HPWJ).\nCarry out activities and operations of high pressure water jet (HPWJ) with safely. \nDuration \n3 Days of Training ( Theory & Practical)
URL:https://blitz.com.my/event/high-pressure-water-jet-melaka-8/
LOCATION:BLITZ TRAINING & CONSULTANCY SDN BHD\, SU1\, Jalan Masjid Tanah Ria\, Melaka\, Melaka\, 78300\, Malaysia
CATEGORIES:High Pressure Water Jet
END:VEVENT
END:VCALENDAR