BEGIN:VCALENDAR
VERSION:2.0
PRODID:-//Blitz - ECPv6.10.1.1//NONSGML v1.0//EN
CALSCALE:GREGORIAN
METHOD:PUBLISH
X-ORIGINAL-URL:https://blitz.com.my
X-WR-CALDESC:Events for Blitz
REFRESH-INTERVAL;VALUE=DURATION:PT1H
X-Robots-Tag:noindex
X-PUBLISHED-TTL:PT1H
BEGIN:VTIMEZONE
TZID:UTC
BEGIN:STANDARD
TZOFFSETFROM:+0000
TZOFFSETTO:+0000
TZNAME:UTC
DTSTART:20250101T000000
END:STANDARD
END:VTIMEZONE
BEGIN:VEVENT
DTSTART;VALUE=DATE:20251020
DTEND;VALUE=DATE:20251030
DTSTAMP:20260425T164006
CREATED:20250928T153130Z
LAST-MODIFIED:20250928T153130Z
UID:1138-1760918400-1761782399@blitz.com.my
SUMMARY:Intermediate Scaffolding : Level 2
DESCRIPTION:To provide scaffolder with knowledge and skills\nnecessary to enable them to meet the requirements for\ncertification to the level of intermediate scaffolding.​ \n​Duration \n10 Days of Training ( Theory & Practical)
URL:https://blitz.com.my/event/intermediate-scaffolding-level-2/
LOCATION:BLITZ TRAINING & CONSULTANCY SDN BHD\, SU1\, Jalan Masjid Tanah Ria\, Melaka\, Melaka\, 78300\, Malaysia
CATEGORIES:Scaffolding Competency Course
END:VEVENT
BEGIN:VEVENT
DTSTART;TZID=UTC:20251020T080000
DTEND;TZID=UTC:20251029T170000
DTSTAMP:20260425T164006
CREATED:20250928T153711Z
LAST-MODIFIED:20250928T153711Z
UID:1140-1760947200-1761757200@blitz.com.my
SUMMARY:Advance Scaffolding : Level 3
DESCRIPTION:Equip participants with comprehensive knowledge of\nscaffolding systems\, including advanced topics such\nas TG20-compliant scaffolds\, suspended and slung\nscaffolds and hoist towers. \nEnhance understanding of safety measures and best\npractices for scaffolding erection\, dismantling\, and\nmaintenance. \nDuration \n10 Days of Training ( Theory & Practical)
URL:https://blitz.com.my/event/advance-scaffolding-level-3/
LOCATION:Melaka
CATEGORIES:Scaffolding Competency Course
END:VEVENT
BEGIN:VEVENT
DTSTART;TZID=UTC:20251027T080000
DTEND;TZID=UTC:20251031T170000
DTSTAMP:20260425T164006
CREATED:20250928T160010Z
LAST-MODIFIED:20250928T160010Z
UID:1144-1761552000-1761930000@blitz.com.my
SUMMARY:Advance Inspection Combo level 1-3
DESCRIPTION:Advance Inspection Combo Level 1-3 \nTo provide knowledge of relevant scaffold regulations\,\nincluding OSHA 1994 (Amendments 2022)\, CDM\n2024\, TG20\, CIS 22\, and MS 1462. \nTo educate participants on best practices\, hazard\nidentification\, compliance\, and the impact of noncompliance\nin scaffold use and installation. \nDuration \n5 Days of Training ( Theory & Practical)
URL:https://blitz.com.my/event/advance-inspection-combo-level-1-3/
LOCATION:Melaka
CATEGORIES:Scaffolding Competency Course
END:VEVENT
BEGIN:VEVENT
DTSTART;VALUE=DATE:20251028
DTEND;VALUE=DATE:20251029
DTSTAMP:20260425T164006
CREATED:20250928T161918Z
LAST-MODIFIED:20250928T161918Z
UID:1152-1761609600-1761695999@blitz.com.my
SUMMARY:AESP – Refresher (MELAKA)
DESCRIPTION:AUTHORISED ENTRANT AND STANBY PERSON (AESP) \nAt the end of the course\, the participant will be able to: \nUnderstand the hazards of confined space.\nUnderstand the requirement of confined space entry.\nUnderstand the requirement of the law and code of practice on safe work in confined space activities\n– Understand the rules & responsibilities of Authorised Entrant and Standby Person when entering a confined space. \nTarget Audience \nWorkers who are involved in confined spaces works. \nDuration \n1 Day of Training (Theory)
URL:https://blitz.com.my/event/aesp-refresher-melaka-23/
LOCATION:BLITZ TRAINING & CONSULTANCY SDN BHD\, SU1\, Jalan Masjid Tanah Ria\, Melaka\, Melaka\, 78300\, Malaysia
CATEGORIES:Authorised Entrant and Standby Person (AESP)
END:VEVENT
BEGIN:VEVENT
DTSTART;VALUE=DATE:20251124
DTEND;VALUE=DATE:20251127
DTSTAMP:20260425T164006
CREATED:20250928T161316Z
LAST-MODIFIED:20250928T161316Z
UID:1148-1763942400-1764201599@blitz.com.my
SUMMARY:High Pressure Water Jet (MELAKA)
DESCRIPTION:HIGH PRESSURE WATER JET (HPWJ) COURSE \nAt the end of the course\, the participant will be able to: \nIdentify the roles and responsibilities of the parties involved in high pressure water jet (HPWJ).\nIdentify personal protective equipment (PPE) and required security features.\nIdentify associated hazards with water jet activity high pressure (HPWJ).\nCarry out activities and operations of high pressure water jet (HPWJ) with safely. \nDuration \n3 Days of Training ( Theory & Practical)
URL:https://blitz.com.my/event/high-pressure-water-jet-melaka-8/
LOCATION:BLITZ TRAINING & CONSULTANCY SDN BHD\, SU1\, Jalan Masjid Tanah Ria\, Melaka\, Melaka\, 78300\, Malaysia
CATEGORIES:High Pressure Water Jet
END:VEVENT
END:VCALENDAR